BEGIN:VCALENDAR
VERSION:2.0
PRODID:-//North Shore Community Action Programs - ECPv6.15.14//NONSGML v1.0//EN
CALSCALE:GREGORIAN
METHOD:PUBLISH
X-WR-CALNAME:North Shore Community Action Programs
X-ORIGINAL-URL:https://www.nscap.org
X-WR-CALDESC:Events for North Shore Community Action Programs
REFRESH-INTERVAL;VALUE=DURATION:PT1H
X-Robots-Tag:noindex
X-PUBLISHED-TTL:PT1H
BEGIN:VTIMEZONE
TZID:America/New_York
BEGIN:DAYLIGHT
TZOFFSETFROM:-0500
TZOFFSETTO:-0400
TZNAME:EDT
DTSTART:20170312T070000
END:DAYLIGHT
BEGIN:STANDARD
TZOFFSETFROM:-0400
TZOFFSETTO:-0500
TZNAME:EST
DTSTART:20171105T060000
END:STANDARD
BEGIN:DAYLIGHT
TZOFFSETFROM:-0500
TZOFFSETTO:-0400
TZNAME:EDT
DTSTART:20180311T070000
END:DAYLIGHT
BEGIN:STANDARD
TZOFFSETFROM:-0400
TZOFFSETTO:-0500
TZNAME:EST
DTSTART:20181104T060000
END:STANDARD
BEGIN:DAYLIGHT
TZOFFSETFROM:-0500
TZOFFSETTO:-0400
TZNAME:EDT
DTSTART:20190310T070000
END:DAYLIGHT
BEGIN:STANDARD
TZOFFSETFROM:-0400
TZOFFSETTO:-0500
TZNAME:EST
DTSTART:20191103T060000
END:STANDARD
END:VTIMEZONE
BEGIN:VEVENT
DTSTART;TZID=America/New_York:20180122T170000
DTEND;TZID=America/New_York:20180122T200000
DTSTAMP:20260420T090449
CREATED:20180116T201540Z
LAST-MODIFIED:20180119T193951Z
UID:10000016-1516640400-1516651200@www.nscap.org
SUMMARY:Stonewood Tavern Fundraiser
DESCRIPTION:Enjoy a delicious dinner at the Stone Wood Tavern\, and 20% of the proceeds are donated to the North Shore Community Action Programs and Services!
URL:https://www.nscap.org/event/stonewood-tavern/
LOCATION:Stonewood Tavern\, 139 Lynnfield Street\, Peabody\, MA\, 01960\, United States
ATTACH;FMTTYPE=image/jpeg:https://www.nscap.org/wp-content/uploads/2018/01/Stonewood-Join-Us-b.jpg
GEO:42.5171932;-70.9579652
X-APPLE-STRUCTURED-LOCATION;VALUE=URI;X-ADDRESS=Stonewood Tavern 139 Lynnfield Street Peabody MA 01960 United States;X-APPLE-RADIUS=500;X-TITLE=139 Lynnfield Street:geo:-70.9579652,42.5171932
END:VEVENT
END:VCALENDAR